BEGIN:VCALENDAR
VERSION:2.0
PRODID:-//UIDP - ECPv6.15.20//NONSGML v1.0//EN
CALSCALE:GREGORIAN
METHOD:PUBLISH
X-WR-CALNAME:UIDP
X-ORIGINAL-URL:https://uidp.org
X-WR-CALDESC:Events for UIDP
REFRESH-INTERVAL;VALUE=DURATION:PT1H
X-Robots-Tag:noindex
X-PUBLISHED-TTL:PT1H
BEGIN:VTIMEZONE
TZID:America/New_York
BEGIN:DAYLIGHT
TZOFFSETFROM:-0500
TZOFFSETTO:-0400
TZNAME:EDT
DTSTART:20240310T070000
END:DAYLIGHT
BEGIN:STANDARD
TZOFFSETFROM:-0400
TZOFFSETTO:-0500
TZNAME:EST
DTSTART:20241103T060000
END:STANDARD
BEGIN:DAYLIGHT
TZOFFSETFROM:-0500
TZOFFSETTO:-0400
TZNAME:EDT
DTSTART:20250309T070000
END:DAYLIGHT
BEGIN:STANDARD
TZOFFSETFROM:-0400
TZOFFSETTO:-0500
TZNAME:EST
DTSTART:20251102T060000
END:STANDARD
BEGIN:DAYLIGHT
TZOFFSETFROM:-0500
TZOFFSETTO:-0400
TZNAME:EDT
DTSTART:20260308T070000
END:DAYLIGHT
BEGIN:STANDARD
TZOFFSETFROM:-0400
TZOFFSETTO:-0500
TZNAME:EST
DTSTART:20261101T060000
END:STANDARD
END:VTIMEZONE
BEGIN:VEVENT
DTSTART;TZID=America/New_York:20251022T130000
DTEND;TZID=America/New_York:20251022T140000
DTSTAMP:20260424T214820
CREATED:20251003T172724Z
LAST-MODIFIED:20251008T144333Z
UID:24692-1761138000-1761141600@uidp.org
SUMMARY:UIDP Webinar: Unlocking Tomorrow’s Innovation | Samsung Research America’s Collaboration Programs
DESCRIPTION:Discover new research opportunities with Samsung! Samsung Research America (SRA) is helping to shape the future of technology by forging strategic partnerships with universities and startups across North America. This session offers a unique opportunity to better understand how SRA’s programs operate and how to get involved. This free webinar is for UIDP members and nonmember representatives; registration is required.
URL:https://uidp.org/event/uidp-webinar-unlocking-tomorrows_innovation_samsung/
LOCATION:UIDP Webinar
CATEGORIES:Webinar
ORGANIZER;CN="UIDP":MAILTO:info@uidp.net
END:VEVENT
END:VCALENDAR