BEGIN:VCALENDAR
VERSION:2.0
PRODID:-//UIDP - ECPv6.15.20//NONSGML v1.0//EN
CALSCALE:GREGORIAN
METHOD:PUBLISH
X-ORIGINAL-URL:https://uidp.org
X-WR-CALDESC:Events for UIDP
REFRESH-INTERVAL;VALUE=DURATION:PT1H
X-Robots-Tag:noindex
X-PUBLISHED-TTL:PT1H
BEGIN:VTIMEZONE
TZID:America/New_York
BEGIN:DAYLIGHT
TZOFFSETFROM:-0500
TZOFFSETTO:-0400
TZNAME:EDT
DTSTART:20240310T070000
END:DAYLIGHT
BEGIN:STANDARD
TZOFFSETFROM:-0400
TZOFFSETTO:-0500
TZNAME:EST
DTSTART:20241103T060000
END:STANDARD
BEGIN:DAYLIGHT
TZOFFSETFROM:-0500
TZOFFSETTO:-0400
TZNAME:EDT
DTSTART:20250309T070000
END:DAYLIGHT
BEGIN:STANDARD
TZOFFSETFROM:-0400
TZOFFSETTO:-0500
TZNAME:EST
DTSTART:20251102T060000
END:STANDARD
BEGIN:DAYLIGHT
TZOFFSETFROM:-0500
TZOFFSETTO:-0400
TZNAME:EDT
DTSTART:20260308T070000
END:DAYLIGHT
BEGIN:STANDARD
TZOFFSETFROM:-0400
TZOFFSETTO:-0500
TZNAME:EST
DTSTART:20261101T060000
END:STANDARD
END:VTIMEZONE
BEGIN:VEVENT
DTSTART;TZID=America/New_York:20251105T083000
DTEND;TZID=America/New_York:20251106T160000
DTSTAMP:20260424T202135
CREATED:20250925T004932Z
LAST-MODIFIED:20250925T032918Z
UID:24684-1762331400-1762444800@uidp.org
SUMMARY:ExLENT Program PI Engagement Workshop
DESCRIPTION:UIDP\, with support from the U.S. National Science Foundation (NSF Award #2534143)\, is organizing the ExLENT Program PI Engagement Workshop to strengthen and expand the nation’s emerging technology workforce. \nThis workshop will bring together ExLENT principal investigators and NSF program leaders for a day and a half of knowledge sharing\, problem solving\, and collaboration. Participants will exchange best practices\, address shared challenges\, and explore strategies for sustaining and scaling their programs. Structured networking opportunities from topic-driven lunch discussions to small-group dinners will foster connections across the ExLENT community and strengthen the collective effort to build a future-ready workforce.
URL:https://uidp.org/event/exlent-program_pi-engagement/
LOCATION:NSF HeadQuarters
CATEGORIES:Workshops
ORGANIZER;CN="UIDP":MAILTO:info@uidp.net
END:VEVENT
END:VCALENDAR