BEGIN:VCALENDAR
VERSION:2.0
PRODID:-//UIDP - ECPv6.15.20//NONSGML v1.0//EN
CALSCALE:GREGORIAN
METHOD:PUBLISH
X-ORIGINAL-URL:https://uidp.org
X-WR-CALDESC:Events for UIDP
REFRESH-INTERVAL;VALUE=DURATION:PT1H
X-Robots-Tag:noindex
X-PUBLISHED-TTL:PT1H
BEGIN:VTIMEZONE
TZID:America/Los_Angeles
BEGIN:DAYLIGHT
TZOFFSETFROM:-0800
TZOFFSETTO:-0700
TZNAME:PDT
DTSTART:20240310T100000
END:DAYLIGHT
BEGIN:STANDARD
TZOFFSETFROM:-0700
TZOFFSETTO:-0800
TZNAME:PST
DTSTART:20241103T090000
END:STANDARD
BEGIN:DAYLIGHT
TZOFFSETFROM:-0800
TZOFFSETTO:-0700
TZNAME:PDT
DTSTART:20250309T100000
END:DAYLIGHT
BEGIN:STANDARD
TZOFFSETFROM:-0700
TZOFFSETTO:-0800
TZNAME:PST
DTSTART:20251102T090000
END:STANDARD
BEGIN:DAYLIGHT
TZOFFSETFROM:-0800
TZOFFSETTO:-0700
TZNAME:PDT
DTSTART:20260308T100000
END:DAYLIGHT
BEGIN:STANDARD
TZOFFSETFROM:-0700
TZOFFSETTO:-0800
TZNAME:PST
DTSTART:20261101T090000
END:STANDARD
END:VTIMEZONE
BEGIN:VEVENT
DTSTART;TZID=America/Los_Angeles:20251209T083000
DTEND;TZID=America/Los_Angeles:20251211T160000
DTSTAMP:20260424T153052
CREATED:20250925T010938Z
LAST-MODIFIED:20250925T032646Z
UID:24685-1765269000-1765468800@uidp.org
SUMMARY:Actions Identifying Opportunities to Dramatically Improve AI Efficiency: A UIDP Workshop
DESCRIPTION:UIDP\, with support from the U.S. National Science Foundation (NSF Award #2534301)\, will convene researchers\, entrepreneurs\, and commercial providers of AI to accelerate the adoption of translation-ready research results that can improve the overall efficiency of commercial AI/ML workloads. The premise of the workshop is that researchers have developed technologies that have the potential to collectively deliver multiple orders of magnitude in improvement in the efficiency with which AI/ML workloads are fielded. Rapid adoption of these technologies can\, in turn\, improve U.S. competitiveness in the AI space\, e.g.\, by addressing near term limitations on energy supplies\, accelerating time to market of new models\, etc.
URL:https://uidp.org/event/improve-ai-efficiency/
CATEGORIES:Workshops
ORGANIZER;CN="UIDP":MAILTO:info@uidp.net
END:VEVENT
END:VCALENDAR