BEGIN:VCALENDAR
VERSION:2.0
PRODID:-//UIDP - ECPv6.15.20//NONSGML v1.0//EN
CALSCALE:GREGORIAN
METHOD:PUBLISH
X-ORIGINAL-URL:https://uidp.org
X-WR-CALDESC:Events for UIDP
REFRESH-INTERVAL;VALUE=DURATION:PT1H
X-Robots-Tag:noindex
X-PUBLISHED-TTL:PT1H
BEGIN:VTIMEZONE
TZID:America/New_York
BEGIN:DAYLIGHT
TZOFFSETFROM:-0500
TZOFFSETTO:-0400
TZNAME:EDT
DTSTART:20250309T070000
END:DAYLIGHT
BEGIN:STANDARD
TZOFFSETFROM:-0400
TZOFFSETTO:-0500
TZNAME:EST
DTSTART:20251102T060000
END:STANDARD
BEGIN:DAYLIGHT
TZOFFSETFROM:-0500
TZOFFSETTO:-0400
TZNAME:EDT
DTSTART:20260308T070000
END:DAYLIGHT
BEGIN:STANDARD
TZOFFSETFROM:-0400
TZOFFSETTO:-0500
TZNAME:EST
DTSTART:20261101T060000
END:STANDARD
BEGIN:DAYLIGHT
TZOFFSETFROM:-0500
TZOFFSETTO:-0400
TZNAME:EDT
DTSTART:20270314T070000
END:DAYLIGHT
BEGIN:STANDARD
TZOFFSETFROM:-0400
TZOFFSETTO:-0500
TZNAME:EST
DTSTART:20271107T060000
END:STANDARD
END:VTIMEZONE
BEGIN:VEVENT
DTSTART;TZID=America/New_York:20260303T130000
DTEND;TZID=America/New_York:20260303T140000
DTSTAMP:20260423T215236
CREATED:20250710T150226Z
LAST-MODIFIED:20260224T174552Z
UID:24404-1772542800-1772546400@uidp.org
SUMMARY:Partnerships in Practice: HBCU Initiative Webinar Series - Powering Careers: The Constellation/INROADS Roadshow | March 3\, 2026
DESCRIPTION:This series is open to member and non-member representatives! Sessions are tailored for corporate\, government\, nonprofit\, and philanthropic stakeholders—as well as academic leaders and faculty from all types of institutions—who are engaged in research\, workforce development\, or university-industry collaboration. \nThis webinar spotlight features innovative\, cross-sector partnerships between HBCUs and collaborators from industry\, academia\, government\, and nonprofits\, offering real-world examples\, practical strategies\, and fresh insights to strengthen research capacity and drive shared innovation. Open to member and nonmember representatives. \nMar. 3\, 2026\, 1 – 2 p.m. – Powering Careers: The Constellation/INROADS Roadshow \nThe Constellation/INROADS Roadshow showcases how universities and corporate partners can work together to build impactful internship programs and strong\, scalable talent pipelines. \nIn this session\, hear directly from Constellation and INROADS about how the program works\, what makes it successful\, and how similar models can be adapted across institutions and industries. Discover how cross-sector collaboration with universities can strengthen workforce development\, expand student engagement\, and deliver measurable results.
URL:https://uidp.org/event/partnerships-in-practice-hbcu-initiative-webinar-series/
LOCATION:UIDP Webinar
CATEGORIES:Webinar
ORGANIZER;CN="UIDP":MAILTO:info@uidp.net
END:VEVENT
END:VCALENDAR