BEGIN:VCALENDAR
VERSION:2.0
PRODID:-//UIDP - ECPv6.15.20//NONSGML v1.0//EN
CALSCALE:GREGORIAN
METHOD:PUBLISH
X-WR-CALNAME:UIDP
X-ORIGINAL-URL:https://uidp.org
X-WR-CALDESC:Events for UIDP
REFRESH-INTERVAL;VALUE=DURATION:PT1H
X-Robots-Tag:noindex
X-PUBLISHED-TTL:PT1H
BEGIN:VTIMEZONE
TZID:America/New_York
BEGIN:DAYLIGHT
TZOFFSETFROM:-0500
TZOFFSETTO:-0400
TZNAME:EDT
DTSTART:20250309T070000
END:DAYLIGHT
BEGIN:STANDARD
TZOFFSETFROM:-0400
TZOFFSETTO:-0500
TZNAME:EST
DTSTART:20251102T060000
END:STANDARD
BEGIN:DAYLIGHT
TZOFFSETFROM:-0500
TZOFFSETTO:-0400
TZNAME:EDT
DTSTART:20260308T070000
END:DAYLIGHT
BEGIN:STANDARD
TZOFFSETFROM:-0400
TZOFFSETTO:-0500
TZNAME:EST
DTSTART:20261101T060000
END:STANDARD
BEGIN:DAYLIGHT
TZOFFSETFROM:-0500
TZOFFSETTO:-0400
TZNAME:EDT
DTSTART:20270314T070000
END:DAYLIGHT
BEGIN:STANDARD
TZOFFSETFROM:-0400
TZOFFSETTO:-0500
TZNAME:EST
DTSTART:20271107T060000
END:STANDARD
END:VTIMEZONE
BEGIN:VEVENT
DTSTART;TZID=America/New_York:20260402T133000
DTEND;TZID=America/New_York:20260402T143000
DTSTAMP:20260423T170227
CREATED:20260323T191209Z
LAST-MODIFIED:20260327T131742Z
UID:25213-1775136600-1775140200@uidp.org
SUMMARY:UIDP Webinar: Pitch Perfect on Campus | How Universities Are Preparing Faculty for Industry Engagement
DESCRIPTION:Learn how universities are using Pitch Perfect\, a UIDP-developed workshop curriculum\, to help faculty understand the benefits and challenges of working with industry and effectively engage with prospective industry sponsors. In this webinar\, speakers from the University of Georgia (UGA) and the University of Vermont (UVM) will share how they have implemented the curriculum on their campuses. Don’t miss this opportunity to learn how your institution can take the next step in strengthening corporate partnerships and better prepare faculty for successful collaboration.
URL:https://uidp.org/event/pitch-perfect-on-campus/
LOCATION:UIDP Webinar
CATEGORIES:Webinar
ORGANIZER;CN="UIDP":MAILTO:info@uidp.net
END:VEVENT
END:VCALENDAR