BEGIN:VCALENDAR
VERSION:2.0
PRODID:-//UIDP - ECPv6.15.20//NONSGML v1.0//EN
CALSCALE:GREGORIAN
METHOD:PUBLISH
X-WR-CALNAME:UIDP
X-ORIGINAL-URL:https://uidp.org
X-WR-CALDESC:Events for UIDP
REFRESH-INTERVAL;VALUE=DURATION:PT1H
X-Robots-Tag:noindex
X-PUBLISHED-TTL:PT1H
BEGIN:VTIMEZONE
TZID:America/Denver
BEGIN:DAYLIGHT
TZOFFSETFROM:-0700
TZOFFSETTO:-0600
TZNAME:MDT
DTSTART:20250309T090000
END:DAYLIGHT
BEGIN:STANDARD
TZOFFSETFROM:-0600
TZOFFSETTO:-0700
TZNAME:MST
DTSTART:20251102T080000
END:STANDARD
BEGIN:DAYLIGHT
TZOFFSETFROM:-0700
TZOFFSETTO:-0600
TZNAME:MDT
DTSTART:20260308T090000
END:DAYLIGHT
BEGIN:STANDARD
TZOFFSETFROM:-0600
TZOFFSETTO:-0700
TZNAME:MST
DTSTART:20261101T080000
END:STANDARD
BEGIN:DAYLIGHT
TZOFFSETFROM:-0700
TZOFFSETTO:-0600
TZNAME:MDT
DTSTART:20270314T090000
END:DAYLIGHT
BEGIN:STANDARD
TZOFFSETFROM:-0600
TZOFFSETTO:-0700
TZNAME:MST
DTSTART:20271107T080000
END:STANDARD
END:VTIMEZONE
BEGIN:VEVENT
DTSTART;TZID=America/Denver:20260922T080000
DTEND;TZID=America/Denver:20260924T120000
DTSTAMP:20260421T062047
CREATED:20250821T184642Z
LAST-MODIFIED:20260204T194724Z
UID:24540-1790064000-1790251200@uidp.org
SUMMARY:UIDP Denver 2026
DESCRIPTION:[vc_row][vc_column][vc_column_text css=””]\nUIDP Denver 2026 is where universities and companies connect to spark ideas\, build relationships\, and shape stronger partnerships. It’s the place for candid conversations\, fresh thinking\, and the kind of connections that turn insight into impact. \nWith federal funding priorities shifting and engagement between academia and industry expanding\, now is the time to explore new models\, refine proven approaches\, and strengthen the practices that make collaboration succeed\, from strategic vision to practical implementation. You will hear directly from industry on how they approach academic engagement\, and from universities on what drives success in research and innovation\, gaining perspectives you can’t get from your organization alone. \n[/vc_column_text][/vc_column][/vc_row]
URL:https://uidp.org/event/denver-2026/
LOCATION:History Colorado Center\, 1200 Broadway Denver\, CO\, Denver\, CO\, 80203\, United States
CATEGORIES:Conference
ORGANIZER;CN="UIDP":MAILTO:info@uidp.net
END:VEVENT
END:VCALENDAR