BEGIN:VCALENDAR
VERSION:2.0
PRODID:-//UIDP - ECPv6.15.20//NONSGML v1.0//EN
CALSCALE:GREGORIAN
METHOD:PUBLISH
X-ORIGINAL-URL:https://uidp.org
X-WR-CALDESC:Events for UIDP
REFRESH-INTERVAL;VALUE=DURATION:PT1H
X-Robots-Tag:noindex
X-PUBLISHED-TTL:PT1H
BEGIN:VTIMEZONE
TZID:America/New_York
BEGIN:DAYLIGHT
TZOFFSETFROM:-0500
TZOFFSETTO:-0400
TZNAME:EDT
DTSTART:20230312T070000
END:DAYLIGHT
BEGIN:STANDARD
TZOFFSETFROM:-0400
TZOFFSETTO:-0500
TZNAME:EST
DTSTART:20231105T060000
END:STANDARD
BEGIN:DAYLIGHT
TZOFFSETFROM:-0500
TZOFFSETTO:-0400
TZNAME:EDT
DTSTART:20240310T070000
END:DAYLIGHT
BEGIN:STANDARD
TZOFFSETFROM:-0400
TZOFFSETTO:-0500
TZNAME:EST
DTSTART:20241103T060000
END:STANDARD
BEGIN:DAYLIGHT
TZOFFSETFROM:-0500
TZOFFSETTO:-0400
TZNAME:EDT
DTSTART:20250309T070000
END:DAYLIGHT
BEGIN:STANDARD
TZOFFSETFROM:-0400
TZOFFSETTO:-0500
TZNAME:EST
DTSTART:20251102T060000
END:STANDARD
END:VTIMEZONE
BEGIN:VEVENT
DTSTART;TZID=America/New_York:20241024T111500
DTEND;TZID=America/New_York:20241024T170000
DTSTAMP:20260422T161027
CREATED:20240819T195718Z
LAST-MODIFIED:20240819T204131Z
UID:23327-1729768500-1729789200@uidp.org
SUMMARY:RTP Regional Assembly 2024
DESCRIPTION:[vc_row][vc_column][vc_column_text]UIDP will convene a regional assembly to consider the state of innovative partnerships in the Research Triangle area in North Carolina. During this half-day event\, UIDP will foster conversations on how key players can strengthen and modernize university-industry partnerships to bolster their collaborations and benefit the region.[/vc_column_text][/vc_column][/vc_row]
URL:https://uidp.org/event/rtp-regional-assembly-2024/
LOCATION:Innovate Carolina Junction\, 136 E. Rosemary Street\, Chapel Hill\, NC\, 27514\, United States
CATEGORIES:Regional Assembly
END:VEVENT
END:VCALENDAR