BEGIN:VCALENDAR
VERSION:2.0
PRODID:-//UIDP - ECPv6.15.20//NONSGML v1.0//EN
CALSCALE:GREGORIAN
METHOD:PUBLISH
X-WR-CALNAME:UIDP
X-ORIGINAL-URL:https://uidp.org
X-WR-CALDESC:Events for UIDP
REFRESH-INTERVAL;VALUE=DURATION:PT1H
X-Robots-Tag:noindex
X-PUBLISHED-TTL:PT1H
BEGIN:VTIMEZONE
TZID:America/New_York
BEGIN:DAYLIGHT
TZOFFSETFROM:-0500
TZOFFSETTO:-0400
TZNAME:EDT
DTSTART:20240310T070000
END:DAYLIGHT
BEGIN:STANDARD
TZOFFSETFROM:-0400
TZOFFSETTO:-0500
TZNAME:EST
DTSTART:20241103T060000
END:STANDARD
BEGIN:DAYLIGHT
TZOFFSETFROM:-0500
TZOFFSETTO:-0400
TZNAME:EDT
DTSTART:20250309T070000
END:DAYLIGHT
BEGIN:STANDARD
TZOFFSETFROM:-0400
TZOFFSETTO:-0500
TZNAME:EST
DTSTART:20251102T060000
END:STANDARD
BEGIN:DAYLIGHT
TZOFFSETFROM:-0500
TZOFFSETTO:-0400
TZNAME:EDT
DTSTART:20260308T070000
END:DAYLIGHT
BEGIN:STANDARD
TZOFFSETFROM:-0400
TZOFFSETTO:-0500
TZNAME:EST
DTSTART:20261101T060000
END:STANDARD
END:VTIMEZONE
BEGIN:VEVENT
DTSTART;TZID=America/New_York:20250423T130000
DTEND;TZID=America/New_York:20250423T140000
DTSTAMP:20260421T075621
CREATED:20250325T150938Z
LAST-MODIFIED:20250407T141524Z
UID:24007-1745413200-1745416800@uidp.org
SUMMARY:Advancing Animal Health & Nutrition | Unlocking Innovation Through Industry-Academic Partnerships with NC State
DESCRIPTION:Are you working or researching the future of animal health and nutrition? Then you will want to join us for an engaging session on the Animal Health & Nutrition Consortium (AHNC)\, a dynamic program within NC State’s Food Animal Initiative. AHNC is at the forefront of innovation\, tackling challenges in food animal technologies\, health\, and nutrition. Two industry leaders will share their first-hand experiences partnering with AHNC\, highlighting the tangible benefits and the powerful collaborations driving progress. Register now to learn about AHNC partnerships and opportunities and about the organization’s groundbreaking research. The webinar is open to UIDP member and nonmember representatives.
URL:https://uidp.org/event/advancing-animal-health-nutrition/
CATEGORIES:Webinar
ORGANIZER;CN="UIDP":MAILTO:info@uidp.net
END:VEVENT
BEGIN:VEVENT
DTSTART;TZID=America/New_York:20250428T120000
DTEND;TZID=America/New_York:20250428T130000
DTSTAMP:20260421T075621
CREATED:20250408T142754Z
LAST-MODIFIED:20250409T201741Z
UID:24069-1745841600-1745845200@uidp.org
SUMMARY:Launching the Fidelity Investments FCAT University Research Awards Program
DESCRIPTION:Join us for an informative webinar on the new FCAT University Research Awards program\, launched by the Fidelity Center for Applied Technology® (FCAT). This program supports innovative academic research and projects that advance knowledge and contribute to the exploration of cutting-edge technologies relevant to the future of financial services. This session will provide valuable insights into the application process\, funding details\, and the potential for industry collaboration through FCAT’s support. Don’t miss this opportunity to learn how your research can align with FCAT’s mission and make a meaningful impact on the future of financial services. The webinar is open to UIDP member and nonmember representatives.
URL:https://uidp.org/event/fidelity-investments-awards-program/
CATEGORIES:Webinar
ORGANIZER;CN="UIDP":MAILTO:info@uidp.net
END:VEVENT
END:VCALENDAR