BEGIN:VCALENDAR
VERSION:2.0
PRODID:-//UIDP - ECPv6.15.20//NONSGML v1.0//EN
CALSCALE:GREGORIAN
METHOD:PUBLISH
X-ORIGINAL-URL:https://uidp.org
X-WR-CALDESC:Events for UIDP
REFRESH-INTERVAL;VALUE=DURATION:PT1H
X-Robots-Tag:noindex
X-PUBLISHED-TTL:PT1H
BEGIN:VTIMEZONE
TZID:America/New_York
BEGIN:DAYLIGHT
TZOFFSETFROM:-0500
TZOFFSETTO:-0400
TZNAME:EDT
DTSTART:20240310T070000
END:DAYLIGHT
BEGIN:STANDARD
TZOFFSETFROM:-0400
TZOFFSETTO:-0500
TZNAME:EST
DTSTART:20241103T060000
END:STANDARD
BEGIN:DAYLIGHT
TZOFFSETFROM:-0500
TZOFFSETTO:-0400
TZNAME:EDT
DTSTART:20250309T070000
END:DAYLIGHT
BEGIN:STANDARD
TZOFFSETFROM:-0400
TZOFFSETTO:-0500
TZNAME:EST
DTSTART:20251102T060000
END:STANDARD
BEGIN:DAYLIGHT
TZOFFSETFROM:-0500
TZOFFSETTO:-0400
TZNAME:EDT
DTSTART:20260308T070000
END:DAYLIGHT
BEGIN:STANDARD
TZOFFSETFROM:-0400
TZOFFSETTO:-0500
TZNAME:EST
DTSTART:20261101T060000
END:STANDARD
END:VTIMEZONE
BEGIN:VEVENT
DTSTART;TZID=America/New_York:20250501T130000
DTEND;TZID=America/New_York:20250501T140000
DTSTAMP:20260421T123909
CREATED:20250422T135430Z
LAST-MODIFIED:20250422T143337Z
UID:24179-1746104400-1746108000@uidp.org
SUMMARY:U.S. Federal Legislative Update
DESCRIPTION:During this UIDP members-only webinar\, Leslee Gilbert of Van Scoyoc Associates will provide timely insights into the current state of affairs in Washington\, D.C.\, with a special focus on the reemergence of rescission bills—a legislative mechanism we haven’t seen used in over 30 years.
URL:https://uidp.org/event/u-s-federal-legislative-update-may-2025/
CATEGORIES:Webinar
ORGANIZER;CN="UIDP":MAILTO:info@uidp.net
END:VEVENT
BEGIN:VEVENT
DTSTART;TZID=America/New_York:20250512T110000
DTEND;TZID=America/New_York:20250512T120000
DTSTAMP:20260421T123909
CREATED:20250418T192958Z
LAST-MODIFIED:20250418T192958Z
UID:24170-1747047600-1747051200@uidp.org
SUMMARY:UIDP Town Hall: How AI Can Transform Partnerships to Increase Impact
DESCRIPTION:Join us for an engaging town hall on how AI can transform partnerships by streamlining processes to find partners\, enhancing decision-making\, and unlocking new opportunities for innovation. This town hall is exclusively for UIDP member representatives.
URL:https://uidp.org/event/ai-transform-partnerships/
CATEGORIES:Webinar
ORGANIZER;CN="UIDP":MAILTO:info@uidp.net
END:VEVENT
BEGIN:VEVENT
DTSTART;TZID=America/New_York:20250514T130000
DTEND;TZID=America/New_York:20250514T140000
DTSTAMP:20260421T123909
CREATED:20250416T151752Z
LAST-MODIFIED:20250417T204110Z
UID:24126-1747227600-1747231200@uidp.org
SUMMARY:UI Collab Webinar: How Will University Innovation Hubs Shape the Future of Work?
DESCRIPTION:In May 2024\, Innovate Carolina\, UIDP\, and UI Collab convened 50 innovation hub leaders from more than 20 states in Chapel Hill to explore the roles hubs play in driving the future of work. Learn what leaders have to say about tomorrow’s work\, workplace\, and workforce during this insightful webinar. It will offer a first look at the findings from a 2025 report titled “How Will University Innovation Hubs Shape the Future of Work?” The webinar is open to UIDP member and nonmember representatives.
URL:https://uidp.org/event/university-innovation-hubs/
CATEGORIES:Webinar
ORGANIZER;CN="UIDP":MAILTO:info@uidp.net
END:VEVENT
END:VCALENDAR