BEGIN:VCALENDAR
VERSION:2.0
PRODID:-//UIDP - ECPv6.15.20//NONSGML v1.0//EN
CALSCALE:GREGORIAN
METHOD:PUBLISH
X-ORIGINAL-URL:https://uidp.org
X-WR-CALDESC:Events for UIDP
REFRESH-INTERVAL;VALUE=DURATION:PT1H
X-Robots-Tag:noindex
X-PUBLISHED-TTL:PT1H
BEGIN:VTIMEZONE
TZID:America/New_York
BEGIN:DAYLIGHT
TZOFFSETFROM:-0500
TZOFFSETTO:-0400
TZNAME:EDT
DTSTART:20250309T070000
END:DAYLIGHT
BEGIN:STANDARD
TZOFFSETFROM:-0400
TZOFFSETTO:-0500
TZNAME:EST
DTSTART:20251102T060000
END:STANDARD
BEGIN:DAYLIGHT
TZOFFSETFROM:-0500
TZOFFSETTO:-0400
TZNAME:EDT
DTSTART:20260308T070000
END:DAYLIGHT
BEGIN:STANDARD
TZOFFSETFROM:-0400
TZOFFSETTO:-0500
TZNAME:EST
DTSTART:20261101T060000
END:STANDARD
BEGIN:DAYLIGHT
TZOFFSETFROM:-0500
TZOFFSETTO:-0400
TZNAME:EDT
DTSTART:20270314T070000
END:DAYLIGHT
BEGIN:STANDARD
TZOFFSETFROM:-0400
TZOFFSETTO:-0500
TZNAME:EST
DTSTART:20271107T060000
END:STANDARD
END:VTIMEZONE
BEGIN:VEVENT
DTSTART;TZID=America/New_York:20260408T130000
DTEND;TZID=America/New_York:20260408T140000
DTSTAMP:20260420T020746
CREATED:20260326T133418Z
LAST-MODIFIED:20260326T133418Z
UID:25215-1775653200-1775656800@uidp.org
SUMMARY:UIDP Webinar: The 2026 FCAT® University Research Awards | Advancing the Future of Finance
DESCRIPTION:Join us for an informational webinar on the 2026 Fidelity Center for Applied Technology® (FCAT) University Research Awards program. This program supports pioneering and applied academic research that explores the future of financial services and enabling technologies at selected institutions. The session will provide valuable insights into the application process\, funding details\, and pathways for industry collaboration through FCAT. Don’t miss this opportunity to learn how your research may align with FCAT’s priorities and make a meaningful impact on the future of finance and its intersection with emerging technologies.
URL:https://uidp.org/event/2026-fcat-university-research-awards/
LOCATION:UIDP Webinar
CATEGORIES:Webinar
ORGANIZER;CN="UIDP":MAILTO:info@uidp.net
END:VEVENT
BEGIN:VEVENT
DTSTART;TZID=America/New_York:20260409T140000
DTEND;TZID=America/New_York:20260409T150000
DTSTAMP:20260420T020746
CREATED:20260327T143450Z
LAST-MODIFIED:20260403T151025Z
UID:25220-1775743200-1775746800@uidp.org
SUMMARY:UIDP Webinar: Research to Results | How i2I is Powering Innovation in Canada
DESCRIPTION:Join us for an inside look at Canada’s i2I Research & Innovation Institute\, an initiative designed to embed commercialization training and change culture within research environments\, accelerating pathways from discovery to impact. This webinar will highlight how i2I equips graduate students\, postdoctoral researchers\, innovation intermediaries\, and faculty with the skills\, mindset\, and support needed to translate research into meaningful outcomes. Don’t miss this opportunity to learn how i2I is building entrepreneurial capacity\, fostering interdisciplinary innovation\, and bridging the gap between fundamental research and real-world impact. \n 
URL:https://uidp.org/event/how-i2i-is-powering-innovation-in-canada/
LOCATION:UIDP Webinar
CATEGORIES:Webinar
ORGANIZER;CN="UIDP":MAILTO:info@uidp.net
END:VEVENT
BEGIN:VEVENT
DTSTART;TZID=America/New_York:20260409T153000
DTEND;TZID=America/New_York:20260409T163000
DTSTAMP:20260420T020746
CREATED:20260406T143623Z
LAST-MODIFIED:20260408T154220Z
UID:25318-1775748600-1775752200@uidp.org
SUMMARY:UIDP Webinar: Update on the Genesis Mission | Insights from the U.S. Department of Energy
DESCRIPTION:Hear from U.S. Department of Energy (DOE) leadership on the Genesis Mission—a high-priority initiative designed to accelerate AI-driven scientific discovery and strengthen national security. This session will address participants’ questions about the mission’s goals\, structure\, participation guidelines\, and the potential impact. \n 
URL:https://uidp.org/event/update-on-genesis-mission-doe/
LOCATION:UIDP Webinar
CATEGORIES:Webinar
ORGANIZER;CN="UIDP":MAILTO:info@uidp.net
END:VEVENT
BEGIN:VEVENT
DTSTART;TZID=America/New_York:20260423T140000
DTEND;TZID=America/New_York:20260423T150000
DTSTAMP:20260420T020746
CREATED:20260406T140239Z
LAST-MODIFIED:20260406T201256Z
UID:25300-1776952800-1776956400@uidp.org
SUMMARY:UIDP Webinar: The Spring 2026 Amazon Research Awards
DESCRIPTION:Discover new research opportunities with the Amazon Research Awards (ARA) program! Join us for an informative webinar highlighting ARA — a program offering unrestricted funding and Amazon Web Service (AWS) credits to support innovative\, high-impact research. ARA invites proposals from university faculty and nonprofits worldwide across areas such as AI\, machine learning\, robotics\, sustainability\, and more. In this session\, you’ll learn about the Spring 2026 award cycle\, including key dates\, proposal requirements\, and tips for submitting a strong application\, as well as how ARA supports long-term academic–industry collaboration. Don’t miss this opportunity to take your research to the next level with Amazon.
URL:https://uidp.org/event/the-spring-2026-amazon-research-awards/
LOCATION:UIDP Webinar
CATEGORIES:Webinar
ORGANIZER;CN="UIDP":MAILTO:info@uidp.net
END:VEVENT
BEGIN:VEVENT
DTSTART;TZID=America/New_York:20260428T130000
DTEND;TZID=America/New_York:20260428T140000
DTSTAMP:20260420T020746
CREATED:20260406T133024Z
LAST-MODIFIED:20260406T133057Z
UID:25283-1777381200-1777384800@uidp.org
SUMMARY:Reimagining Collaboration in the Age of AI: A UIDP Town Hall Series | AI and Contracting
DESCRIPTION:This town hall series convenes leaders across sectors to explore how AI is shaping the future of collaborative research\, development\, and innovation. Through a set of focused\, interactive discussions\, participants will examine the evolving role of AI in critical areas\, including contracting\, strategic partnership management\, workforce development\, and innovation ecosystem management. Open to member representatives. \nApril 28\, 2026\, 1–2 p.m. – AI and Contracting \nThis session examines how AI is reshaping research agreements\, negotiations\, and compliance in cross-sector collaborations. As AI becomes increasingly integrated into contracting\, it raises new questions around intellectual property\, data rights\, risk\, and oversight.
URL:https://uidp.org/event/reimagining-collaboration-age-of-ai/
LOCATION:UIDP Town Hall
CATEGORIES:Webinar
ORGANIZER;CN="UIDP":MAILTO:info@uidp.net
END:VEVENT
END:VCALENDAR