BEGIN:VCALENDAR
VERSION:2.0
PRODID:-//UIDP - ECPv6.15.20//NONSGML v1.0//EN
CALSCALE:GREGORIAN
METHOD:PUBLISH
X-WR-CALNAME:UIDP
X-ORIGINAL-URL:https://uidp.org
X-WR-CALDESC:Events for UIDP
REFRESH-INTERVAL;VALUE=DURATION:PT1H
X-Robots-Tag:noindex
X-PUBLISHED-TTL:PT1H
BEGIN:VTIMEZONE
TZID:Asia/Tokyo
BEGIN:STANDARD
TZOFFSETFROM:+0900
TZOFFSETTO:+0900
TZNAME:JST
DTSTART:20250101T000000
END:STANDARD
END:VTIMEZONE
BEGIN:VTIMEZONE
TZID:America/Los_Angeles
BEGIN:DAYLIGHT
TZOFFSETFROM:-0800
TZOFFSETTO:-0700
TZNAME:PDT
DTSTART:20260308T100000
END:DAYLIGHT
BEGIN:STANDARD
TZOFFSETFROM:-0700
TZOFFSETTO:-0800
TZNAME:PST
DTSTART:20261101T090000
END:STANDARD
BEGIN:DAYLIGHT
TZOFFSETFROM:-0800
TZOFFSETTO:-0700
TZNAME:PDT
DTSTART:20270314T100000
END:DAYLIGHT
BEGIN:STANDARD
TZOFFSETFROM:-0700
TZOFFSETTO:-0800
TZNAME:PST
DTSTART:20271107T090000
END:STANDARD
BEGIN:DAYLIGHT
TZOFFSETFROM:-0800
TZOFFSETTO:-0700
TZNAME:PDT
DTSTART:20280312T100000
END:DAYLIGHT
BEGIN:STANDARD
TZOFFSETFROM:-0700
TZOFFSETTO:-0800
TZNAME:PST
DTSTART:20281105T090000
END:STANDARD
END:VTIMEZONE
BEGIN:VEVENT
DTSTART;TZID=Asia/Tokyo:20261112T083000
DTEND;TZID=Asia/Tokyo:20261112T190000
DTSTAMP:20260423T183907
CREATED:20260403T135014Z
LAST-MODIFIED:20260403T135014Z
UID:25310-1794472200-1794510000@uidp.org
SUMMARY:UIDP Japan 2026
DESCRIPTION:The UIDP Japan 2026 Forum is an in-person convening of senior universities\, industry\, and government focused on advancing Japan’s innovation and startup ecosystem through strengthened university–industry collaboration. \nA full-day facilitated dialogue featuring plenary sessions\, panel discussions\, and structured breakout conversations focused on ecosystem development\, institutional strategy\, and multinational collaboration. Sessions will engage audience members in dynamic discussions\, and all conversations operate under Chatham House Rules to encourage candid dialogue. To extend the experience\, participants may register for site visits\, designed to connect the workshop discussions to real-world environments. Registration is required and subject to approval. \n 
URL:https://uidp.org/event/uidp-japan-2026/
LOCATION:Hibiya International Building\, 2-chōme-2 Uchisaiwaichō\, Chiyoda City\, Tokyo 100-0011\, Japan
CATEGORIES:Forum
END:VEVENT
BEGIN:VEVENT
DTSTART;TZID=America/Los_Angeles:20270114T080000
DTEND;TZID=America/Los_Angeles:20270114T173000
DTSTAMP:20260423T183907
CREATED:20260313T180856Z
LAST-MODIFIED:20260313T180955Z
UID:25176-1799913600-1799947800@uidp.org
SUMMARY:UIDP Bay Area Forum 2027
DESCRIPTION:[vc_row][vc_column][vc_column_text css=””]\nThe UIDP Bay Area Forum is a one-day in-person gathering of senior leaders from academia\, industry\, government\, and philanthropy who are shaping the future of research and innovation. Held in the heart of Silicon Valley\, it offers a trusted environment for candid conversation and insider insights on the strategies\, structures\, and shared priorities that will define the next era of cross-sector collaboration. As technological change accelerates and national priorities evolve\, the stakes for effective university-industry partnerships have never been higher. \nThis event creates space for timely\, strategic dialogue on how research institutions and innovation-driven organizations can align more deeply\, respond more rapidly\, and lead more confidently.  Attendance is limited to foster meaningful exchange. \n[/vc_column_text][/vc_column][/vc_row]
URL:https://uidp.org/event/bay-area-forum-2027/
LOCATION:Synopsys\, 800 N Mary Ave\, Sunnyvale\, CA\, 94085\, United States
CATEGORIES:Forum
ORGANIZER;CN="UIDP":MAILTO:info@uidp.net
END:VEVENT
END:VCALENDAR