BEGIN:VCALENDAR
VERSION:2.0
PRODID:-//UIDP - ECPv6.15.20//NONSGML v1.0//EN
CALSCALE:GREGORIAN
METHOD:PUBLISH
X-ORIGINAL-URL:https://uidp.org
X-WR-CALDESC:Events for UIDP
REFRESH-INTERVAL;VALUE=DURATION:PT1H
X-Robots-Tag:noindex
X-PUBLISHED-TTL:PT1H
BEGIN:VTIMEZONE
TZID:America/New_York
BEGIN:DAYLIGHT
TZOFFSETFROM:-0500
TZOFFSETTO:-0400
TZNAME:EDT
DTSTART:20250309T070000
END:DAYLIGHT
BEGIN:STANDARD
TZOFFSETFROM:-0400
TZOFFSETTO:-0500
TZNAME:EST
DTSTART:20251102T060000
END:STANDARD
BEGIN:DAYLIGHT
TZOFFSETFROM:-0500
TZOFFSETTO:-0400
TZNAME:EDT
DTSTART:20260308T070000
END:DAYLIGHT
BEGIN:STANDARD
TZOFFSETFROM:-0400
TZOFFSETTO:-0500
TZNAME:EST
DTSTART:20261101T060000
END:STANDARD
BEGIN:DAYLIGHT
TZOFFSETFROM:-0500
TZOFFSETTO:-0400
TZNAME:EDT
DTSTART:20270314T070000
END:DAYLIGHT
BEGIN:STANDARD
TZOFFSETFROM:-0400
TZOFFSETTO:-0500
TZNAME:EST
DTSTART:20271107T060000
END:STANDARD
END:VTIMEZONE
BEGIN:VTIMEZONE
TZID:America/Los_Angeles
BEGIN:DAYLIGHT
TZOFFSETFROM:-0800
TZOFFSETTO:-0700
TZNAME:PDT
DTSTART:20250309T100000
END:DAYLIGHT
BEGIN:STANDARD
TZOFFSETFROM:-0700
TZOFFSETTO:-0800
TZNAME:PST
DTSTART:20251102T090000
END:STANDARD
BEGIN:DAYLIGHT
TZOFFSETFROM:-0800
TZOFFSETTO:-0700
TZNAME:PDT
DTSTART:20260308T100000
END:DAYLIGHT
BEGIN:STANDARD
TZOFFSETFROM:-0700
TZOFFSETTO:-0800
TZNAME:PST
DTSTART:20261101T090000
END:STANDARD
BEGIN:DAYLIGHT
TZOFFSETFROM:-0800
TZOFFSETTO:-0700
TZNAME:PDT
DTSTART:20270314T100000
END:DAYLIGHT
BEGIN:STANDARD
TZOFFSETFROM:-0700
TZOFFSETTO:-0800
TZNAME:PST
DTSTART:20271107T090000
END:STANDARD
END:VTIMEZONE
BEGIN:VEVENT
DTSTART;TZID=America/New_York:20260113T110000
DTEND;TZID=America/New_York:20260113T120000
DTSTAMP:20260424T111730
CREATED:20260105T193716Z
LAST-MODIFIED:20260109T202826Z
UID:24950-1768302000-1768305600@uidp.org
SUMMARY:Orientation to UIDP Resources and Services
DESCRIPTION:Eastern Standard Time \n \n\n	\n		REGISTER NOW	\n	\n  \nIt’s time to engage with UIDP and find support for your role. Whether you’re a new member representative or just need to re-familiarize yourself with UIDP’s current resources and services\, this interactive session can help you. Join the membership team to review your core member services. During this session you’ll meet with our membership team to walk through our resource library\, projects\, events\, and other tools like the UIDP’s new podcasts\, LIA (UIDP’s own AI Chatbot)\, and myUIDP (A member directory search and network). Questions are welcome to ensure you find what you need for support with your work. \nCORE MEMBER SERVICES: We’ll review together.\n\nEVENTS: view upcoming events and learn about member opportunities you can plan to use throughout the year!\n\nCOMMUNITY PROBLEM-SOLVING: (View UIDP Project topics) Use our member-driven projects to collaborate virtually in small working groups\, to tackle a specific challenge or better navigate a new approach to advance your work.\nRESOURCES & BEST PRACTICES: Navigate best-practices guides and tools around university-industry collaboration in our MEMBERS-SIGN IN AREA.\n\nPodcasts\nRecorded Webinars\nPublished Project Materials\nSurvey results for benchmarking\nMember Directory & Network\nAI ChatBot LIA. LIA (which stands for Linking Industry & Academia) is UIDP’s AI knowledge assistant.\n\n\n\n\nCUSTOM SUPPORT: Consider topics that you seek insights about or partnering-challenges that you face. UIDP will mobilize to meet members’ specific needs by convening the right set of professionals in the appropriate setting. Common modalities include\n\n1-Minute Surveys: A vehicle to benchmark current practices\nSupport for RFPs or other initiatives\nJob Posting\nSpeaking opportunities\nHosting webinars\nVirtual workshop\, networking\, and conference services\n\n\n\nFormat\nThis is an informational small group session with an opportunity for open Q&A. Participation is encouraged. \nSpeaker\nUIDP’s Membership Team \nLily Neal\, Membership Services Coordinator \nKelsey Sadlier\, Membership Engagement Manager \nWho Should Attend\nMember representatives that wish to advance their work by better understanding UIDP’s services and resources. \n  \n  \n  \n 
URL:https://uidp.org/event/orientation-to-uidp-resources-and-services-01-13/
CATEGORIES:Training
END:VEVENT
BEGIN:VEVENT
DTSTART;TZID=America/Los_Angeles:20260115T081500
DTEND;TZID=America/Los_Angeles:20260115T173000
DTSTAMP:20260424T111730
CREATED:20240625T190333Z
LAST-MODIFIED:20250807T142423Z
UID:23170-1768464900-1768498200@uidp.org
SUMMARY:UIDP Bay Area Forum 2026
DESCRIPTION:[vc_row][vc_column][vc_column_text css=””]\nThe UIDP Bay Area Forum is a one-day in-person gathering of senior leaders from academia\, industry\, government\, and philanthropy who are shaping the future of research and innovation. Held in the heart of Silicon Valley\, it offers a trusted environment for candid conversation and insider insights on the strategies\, structures\, and shared priorities that will define the next era of cross-sector collaboration. As technological change accelerates and national priorities evolve\, the stakes for effective university-industry partnerships have never been higher. \nThis event creates space for timely\, strategic dialogue on how research institutions and innovation-driven organizations can align more deeply\, respond more rapidly\, and lead more confidently.  Attendance is limited to foster meaningful exchange. \n[/vc_column_text][/vc_column][/vc_row]
URL:https://uidp.org/event/bay-area-forum-2026/
LOCATION:Synopsys\, 800 N Mary Ave\, Sunnyvale\, CA\, 94085\, United States
CATEGORIES:Forum
ORGANIZER;CN="UIDP":MAILTO:info@uidp.net
END:VEVENT
BEGIN:VEVENT
DTSTART;TZID=America/New_York:20260121T130000
DTEND;TZID=America/New_York:20260121T140000
DTSTAMP:20260424T111730
CREATED:20251222T152653Z
LAST-MODIFIED:20260105T163944Z
UID:24936-1769000400-1769004000@uidp.org
SUMMARY:UIDP Webinar: Rethinking Partnerships for Impact | Putting Thinking into Action with PepsiCo
DESCRIPTION:Join us for a company spotlight webinar with PepsiCo as we explore how reimagining collaboration can support innovation\, problem-solving\, and long-term value creation. In this session\, speakers will discuss PepsiCo’s approach to translating strategic thinking into action—how the company designs and activates partnerships\, and how collaboration fits within its broader innovation strategy. This webinar is open to UIDP member and non-member representatives. \n 
URL:https://uidp.org/event/putting-thinking-into-action-with-pepsico/
LOCATION:UIDP Webinar
CATEGORIES:Webinar
ORGANIZER;CN="UIDP":MAILTO:info@uidp.net
END:VEVENT
BEGIN:VEVENT
DTSTART;TZID=America/New_York:20260127T130000
DTEND;TZID=America/New_York:20260127T140000
DTSTAMP:20260424T111730
CREATED:20260106T143618Z
LAST-MODIFIED:20260106T143618Z
UID:24934-1769518800-1769522400@uidp.org
SUMMARY:UIDP Webinar: Attain Partners & Luminance | Reimagining U-I Research Contracting with AI
DESCRIPTION:Join us for a dynamic webinar featuring Attain Partners and Luminance who are bringing AI-driven contracting technology to higher education\, transforming how research agreements\, scopes of work\, and funding submissions are managed. In this webinar\, you’ll see how Luminance’s AI contracting platform\, tailored by Attain Partners for the academic research environment\, enables faster\, more effective UI partnerships. Learn how an AI-powered scope-of-work review improves the RFP response process\, driving higher-quality submissions while supporting research compliance and oversight. This webinar is open to UIDP member and non-member representatives.
URL:https://uidp.org/event/attain-partners-and-luminance/
LOCATION:UIDP Webinar
CATEGORIES:Webinar
ORGANIZER;CN="UIDP":MAILTO:info@uidp.net
END:VEVENT
BEGIN:VEVENT
DTSTART;TZID=America/New_York:20260127T140000
DTEND;TZID=America/New_York:20260127T150000
DTSTAMP:20260424T111730
CREATED:20260105T194041Z
LAST-MODIFIED:20260109T202726Z
UID:24951-1769522400-1769526000@uidp.org
SUMMARY:Orientation to UIDP Resources and Services
DESCRIPTION:Eastern Standard Time \n \n\n	\n		REGISTER NOW	\n	\n  \nIt’s time to engage with UIDP and find support for your role. Whether you’re a new member representative or just need to re-familiarize yourself with UIDP’s current resources and services\, this interactive session can help you. Join the membership team to review your core member services. During this session you’ll meet with our membership team to walk through our resource library\, projects\, events\, and other tools like the UIDP’s new podcasts\, LIA (UIDP’s own AI Chatbot)\, and myUIDP (A member directory search and network). Questions are welcome to ensure you find what you need for support with your work. \nCORE MEMBER SERVICES: We’ll review together.\n\nEVENTS: view upcoming events and learn about member opportunities you can plan to use throughout the year!\n\nCOMMUNITY PROBLEM-SOLVING: (View UIDP Project topics) Use our member-driven projects to collaborate virtually in small working groups\, to tackle a specific challenge or better navigate a new approach to advance your work.\nRESOURCES & BEST PRACTICES: Navigate best-practices guides and tools around university-industry collaboration in our MEMBERS-SIGN IN AREA.\n\nPodcasts\nRecorded Webinars\nPublished Project Materials\nSurvey results for benchmarking\nMember Directory & Network\nAI ChatBot LIA. LIA (which stands for Linking Industry & Academia) is UIDP’s AI knowledge assistant.\n\n\n\n\nCUSTOM SUPPORT: Consider topics that you seek insights about or partnering-challenges that you face. UIDP will mobilize to meet members’ specific needs by convening the right set of professionals in the appropriate setting. Common modalities include\n\n1-Minute Surveys: A vehicle to benchmark current practices\nSupport for RFPs or other initiatives\nJob Posting\nSpeaking opportunities\nHosting webinars\nVirtual workshop\, networking\, and conference services\n\n\n\nFormat\nThis is an informational small group session with an opportunity for open Q&A. Participation is encouraged. \nSpeaker\nUIDP’s Membership Team \nLily Neal\, Membership Services Coordinator \nKelsey Sadlier\, Membership Engagement Manager \nWho Should Attend\nMember representatives that wish to advance their work by better understanding UIDP’s services and resources. \n  \n  \n  \n 
URL:https://uidp.org/event/orientation-to-uidp-resources-and-services-01-27/
CATEGORIES:Training
END:VEVENT
BEGIN:VEVENT
DTSTART;TZID=America/New_York:20260128T110000
DTEND;TZID=America/New_York:20260128T120000
DTSTAMP:20260424T111730
CREATED:20260106T143905Z
LAST-MODIFIED:20260106T143905Z
UID:24930-1769598000-1769601600@uidp.org
SUMMARY:UIDP Webinar: Shaping the Future of Pet Care | Opportunities for Research Collaboration with Nestlé Purina
DESCRIPTION:Join us for a company spotlight session with Nestlé Purina PetCare\, as we explore how strategic collaboration is shaping the future of companion animal nutrition\, health\, and wellness. This session introduces Purina’s partnership model and core values\, highlighting how the company works with partners worldwide to co-create impactful solutions. This webinar is open to UIDP member and non-member representatives.
URL:https://uidp.org/event/opportunities-for-research-collaboration-nestle-purina/
LOCATION:UIDP Webinar
CATEGORIES:Webinar
ORGANIZER;CN="UIDP":MAILTO:info@uidp.net
END:VEVENT
BEGIN:VEVENT
DTSTART;TZID=America/New_York:20260129T130000
DTEND;TZID=America/New_York:20260129T140000
DTSTAMP:20260424T111730
CREATED:20260106T144333Z
LAST-MODIFIED:20260106T144333Z
UID:24938-1769691600-1769695200@uidp.org
SUMMARY:UIDP Webinar: The Center for Digital Twins in Manufacturing | An NSF IUCRC Overview
DESCRIPTION:Join us for a dynamic webinar featuring the Center for Digital Twins in Manufacturing\, an NSF IUCRC led by the University of Michigan and Arizona State University. The center brings together partners to develop a shared digital twin framework that improves interoperability\, scalability\, and decision-making across manufacturing systems. This webinar is open to UIDP member and non-member representatives.
URL:https://uidp.org/event/center-for-digital-twins-in-manufacturing/
LOCATION:UIDP Webinar
CATEGORIES:Webinar
ORGANIZER;CN="UIDP":MAILTO:info@uidp.net
END:VEVENT
END:VCALENDAR