BEGIN:VCALENDAR
VERSION:2.0
PRODID:-//UIDP - ECPv6.15.20//NONSGML v1.0//EN
CALSCALE:GREGORIAN
METHOD:PUBLISH
X-ORIGINAL-URL:https://uidp.org
X-WR-CALDESC:Events for UIDP
REFRESH-INTERVAL;VALUE=DURATION:PT1H
X-Robots-Tag:noindex
X-PUBLISHED-TTL:PT1H
BEGIN:VTIMEZONE
TZID:America/New_York
BEGIN:DAYLIGHT
TZOFFSETFROM:-0500
TZOFFSETTO:-0400
TZNAME:EDT
DTSTART:20250309T070000
END:DAYLIGHT
BEGIN:STANDARD
TZOFFSETFROM:-0400
TZOFFSETTO:-0500
TZNAME:EST
DTSTART:20251102T060000
END:STANDARD
BEGIN:DAYLIGHT
TZOFFSETFROM:-0500
TZOFFSETTO:-0400
TZNAME:EDT
DTSTART:20260308T070000
END:DAYLIGHT
BEGIN:STANDARD
TZOFFSETFROM:-0400
TZOFFSETTO:-0500
TZNAME:EST
DTSTART:20261101T060000
END:STANDARD
BEGIN:DAYLIGHT
TZOFFSETFROM:-0500
TZOFFSETTO:-0400
TZNAME:EDT
DTSTART:20270314T070000
END:DAYLIGHT
BEGIN:STANDARD
TZOFFSETFROM:-0400
TZOFFSETTO:-0500
TZNAME:EST
DTSTART:20271107T060000
END:STANDARD
END:VTIMEZONE
BEGIN:VEVENT
DTSTART;TZID=America/New_York:20260505T110000
DTEND;TZID=America/New_York:20260505T120000
DTSTAMP:20260424T054019
CREATED:20260415T182741Z
LAST-MODIFIED:20260415T182741Z
UID:25349-1777978800-1777982400@uidp.org
SUMMARY:Orientation to UIDP Resources and Services
DESCRIPTION:Eastern Standard Time \n \n\n	\n		REGISTER NOW	\n	\n  \nIt’s time to engage with UIDP and find support for your role. Whether you’re a new member representative or just need to re-familiarize yourself with UIDP’s current resources and services\, this interactive session can help you. Join the membership team to review your core member services. During this session you’ll meet with our membership team to walk through our resource library\, projects\, events\, and other tools like the UIDP’s new podcasts\, LIA (UIDP’s own AI Chatbot)\, and myUIDP (A member directory search and network). Questions are welcome to ensure you find what you need for support with your work. \nCORE MEMBER SERVICES: We’ll review together.\n\nEVENTS: view upcoming events and learn about member opportunities you can plan to use throughout the year!\n\nCOMMUNITY PROBLEM-SOLVING: (View UIDP Project topics) Use our member-driven projects to collaborate virtually in small working groups\, to tackle a specific challenge or better navigate a new approach to advance your work.\nRESOURCES & BEST PRACTICES: Navigate best-practices guides and tools around university-industry collaboration in our MEMBERS-SIGN IN AREA.\n\nPodcasts\nRecorded Webinars\nPublished Project Materials\nSurvey results for benchmarking\nMember Directory & Network\nAI ChatBot LIA. LIA (which stands for Linking Industry & Academia) is UIDP’s AI knowledge assistant.\n\n\n\n\nCUSTOM SUPPORT: Consider topics that you seek insights about or partnering-challenges that you face. UIDP will mobilize to meet members’ specific needs by convening the right set of professionals in the appropriate setting. Common modalities include\n\n1-Minute Surveys: A vehicle to benchmark current practices\nSupport for RFPs or other initiatives\nJob Posting\nSpeaking opportunities\nHosting webinars\nVirtual workshop\, networking\, and conference services\n\n\n\nFormat\nThis is an informational small group session with an opportunity for open Q&A. Participation is encouraged. \nSpeaker\nUIDP’s Membership Team \nLily Neal\, Membership Services Coordinator \nKelsey Sadlier\, Membership Engagement Manager \nWho Should Attend\nMember representatives that wish to advance their work by better understanding UIDP’s services and resources. \n  \n  \n  \n 
URL:https://uidp.org/event/orientation-to-uidp-resources-and-services-05-11/
CATEGORIES:Training
END:VEVENT
BEGIN:VEVENT
DTSTART;TZID=America/New_York:20260506T130000
DTEND;TZID=America/New_York:20260506T140000
DTSTAMP:20260424T054019
CREATED:20260421T155427Z
LAST-MODIFIED:20260422T164544Z
UID:25364-1778072400-1778076000@uidp.org
SUMMARY:UIDP Town Hall Series: Advancing the Conversation on DOE's Genesis Mission
DESCRIPTION:Following UIDP’s recent public webinar with the U.S. Department of Energy (DOE) on the Genesis Mission\, this members-only town hall series will offer an opportunity for continued discussion spanning both Phase I and Phase II awards. Open to member representatives. \nWednesday\, April 22\, 2026\, 1–2 p.m. \nFollowing UIDP’s recent webinar on the Genesis Mission\, this session will offer an opportunity to continue the discussion ahead of the Phase I proposal application deadline on May 1. \nWednesday\, May 6\, 2026\, 1–2 p.m. \nBuilding on the April UIDP webinar and subsequent town hall discussion\, this session continues the conversation following the Phase I deadline\, with a focus on the Phase II proposal application of the Genesis Mission.
URL:https://uidp.org/event/advancing-conversation-doe-genesis-mission/
LOCATION:UIDP Town Hall
CATEGORIES:Webinar
ORGANIZER;CN="UIDP":MAILTO:info@uidp.net
END:VEVENT
BEGIN:VEVENT
DTSTART;TZID=America/New_York:20260514T100000
DTEND;TZID=America/New_York:20260514T160000
DTSTAMP:20260424T054019
CREATED:20260202T162954Z
LAST-MODIFIED:20260213T181727Z
UID:24974-1778752800-1778774400@uidp.org
SUMMARY:UIDP Northeast Regional Forum 2026
DESCRIPTION:The UIDP Northeast Regional Forum is a one-day\, in-person convening of leaders from academia\, industry\, government\, and philanthropy engaged in advancing university–industry and cross-sector partnerships. Hosted by Sanofi in Cambridge\, Massachusetts\, the forum brings together the UIDP community and other interested stakeholders for face-to-face connection – an experience consistently cited as one of the greatest values of UIDP participation. \nThe forum will provide a trusted environment for candid conversation\, peer exchange\, and relationship-building focused on contemporary issues shaping partnerships in a changing research\, funding\, and innovation landscape.
URL:https://uidp.org/event/northeast-regional-forum-2026/
LOCATION:Sanofi\, Cambridge\, MA
CATEGORIES:Forum,Regional Assembly
ORGANIZER;CN="UIDP":MAILTO:info@uidp.net
END:VEVENT
BEGIN:VEVENT
DTSTART;TZID=America/New_York:20260519T140000
DTEND;TZID=America/New_York:20260519T150000
DTSTAMP:20260424T054019
CREATED:20260415T184452Z
LAST-MODIFIED:20260415T184452Z
UID:25350-1779199200-1779202800@uidp.org
SUMMARY:Orientation to UIDP Resources and Services
DESCRIPTION:Eastern Standard Time \n \n\n	\n		REGISTER NOW	\n	\n  \nIt’s time to engage with UIDP and find support for your role. Whether you’re a new member representative or just need to re-familiarize yourself with UIDP’s current resources and services\, this interactive session can help you. Join the membership team to review your core member services. During this session you’ll meet with our membership team to walk through our resource library\, projects\, events\, and other tools like the UIDP’s new podcasts\, LIA (UIDP’s own AI Chatbot)\, and myUIDP (A member directory search and network). Questions are welcome to ensure you find what you need for support with your work. \nCORE MEMBER SERVICES: We’ll review together.\n\nEVENTS: view upcoming events and learn about member opportunities you can plan to use throughout the year!\n\nCOMMUNITY PROBLEM-SOLVING: (View UIDP Project topics) Use our member-driven projects to collaborate virtually in small working groups\, to tackle a specific challenge or better navigate a new approach to advance your work.\nRESOURCES & BEST PRACTICES: Navigate best-practices guides and tools around university-industry collaboration in our MEMBERS-SIGN IN AREA.\n\nPodcasts\nRecorded Webinars\nPublished Project Materials\nSurvey results for benchmarking\nMember Directory & Network\nAI ChatBot LIA. LIA (which stands for Linking Industry & Academia) is UIDP’s AI knowledge assistant.\n\n\n\n\nCUSTOM SUPPORT: Consider topics that you seek insights about or partnering-challenges that you face. UIDP will mobilize to meet members’ specific needs by convening the right set of professionals in the appropriate setting. Common modalities include\n\n1-Minute Surveys: A vehicle to benchmark current practices\nSupport for RFPs or other initiatives\nJob Posting\nSpeaking opportunities\nHosting webinars\nVirtual workshop\, networking\, and conference services\n\n\n\nFormat\nThis is an informational small group session with an opportunity for open Q&A. Participation is encouraged. \nSpeaker\nUIDP’s Membership Team \nLily Neal\, Membership Services Coordinator \nKelsey Sadlier\, Membership Engagement Manager \nWho Should Attend\nMember representatives that wish to advance their work by better understanding UIDP’s services and resources. \n  \n  \n  \n 
URL:https://uidp.org/event/orientation-to-uidp-resources-and-services-05-19/
CATEGORIES:Training
END:VEVENT
BEGIN:VEVENT
DTSTART;TZID=America/New_York:20260520T100000
DTEND;TZID=America/New_York:20260520T160000
DTSTAMP:20260424T054019
CREATED:20251107T150414Z
LAST-MODIFIED:20260224T191011Z
UID:24708-1779271200-1779292800@uidp.org
SUMMARY:UIDP Southeast Regional Forum 2026
DESCRIPTION:[vc_row][vc_column][vc_column_text css=””]The UIDP Southeast Regional Forum is where the Southeast’s innovation ecosystem comes together. This spring\, Duke University will welcome colleagues from across the Southeast and beyond for a day of inspiration\, practical learning\, and meaningful connection. Universities\, companies\, and their partners will gather to explore opportunities\, share experiences\, and consider how collaboration across sectors can unlock new resources and fuel continued growth—not only for the Southeast\, but for organizations everywhere engaging or seeking to expand in the region. \nJoin leaders from across academia and industry as we chart the next chapter for innovation partnerships in the Southeast and beyond.[/vc_column_text][/vc_column][/vc_row]
URL:https://uidp.org/event/southeastern-regional-forum-2026/
LOCATION:Duke Karsh Alumni and Vistor Center
CATEGORIES:Forum,Regional Assembly
ORGANIZER;CN="UIDP":MAILTO:info@uidp.net
END:VEVENT
END:VCALENDAR